BEGIN:VCALENDAR
VERSION:2.0
PRODID:-//Centrolos.it - ECPv4.4.5//NONSGML v1.0//EN
CALSCALE:GREGORIAN
METHOD:PUBLISH
X-WR-CALNAME:Centrolos.it
X-ORIGINAL-URL:https://centrolos.it
X-WR-CALDESC:Events for Centrolos.it
BEGIN:VEVENT
DTSTART;TZID=Europe/Rome:20151219T090000
DTEND;TZID=Europe/Rome:20151220T180000
DTSTAMP:20260419T192017
CREATED:20151109T174752Z
LAST-MODIFIED:20151109T174752Z
UID:1219-1450515600-1450634400@centrolos.it
SUMMARY:MASSAGGIO OLISTICO livello BASE a Brescia
DESCRIPTION:MASSAGGIO OLISTICO livello BASE a Brescia\nFare e farti del Bene e… chissà…\n l’inizio di una nuova professione?\n\nMASSAGGIO OLISTICO\nCorso professionale e amatoriale\, pratico - esperienziale in 3 livelli progressivi a BRESCIA\n1° livello: BASE - sabato 19 e domenica 20 dicembre 2015\nTre livelli progressivi strutturati\, sia per fornire al principiante tutte le conoscenze necessarie per iniziare a sperimentarsi nelle manualità del massaggio secondo la visione olistica\, sia per dare all’operatore già specializzato (in qualsiasi altra bio-disciplina)\, le informazioni e la pratica utile a trasformare le proprie competenze in “olistiche”\, aggiungendo questo nuovo approccio a qualsiasi altro lavoro stia già facendo\, o iniziando a creare un’attività volta ad assistere gli altri nella realizzazione di Sé.\nTre week-end intensivi che ti permetteranno\, da subito\, di eseguire / offrire una sessione di Massaggio Olistico a parenti\, amici e clienti. Già dal 1° livello imparerai a praticare un rilassante massaggio su tutto il corpo. Nel 2° livello apprenderai modalità e manovre utili a trasformare il tuo massaggio da rilassante a igienico e successivamente\, con il 3° livello\, in olistico. Imparerai ad offrire\, al tuo ricevente\, circa un’ora di Benessere esclusivo\, attraverso una modalità unica ed efficace\, in cui la persona si sentirà supportata nel manifestarsi e nel riconoscersi.\nDedicati a tutti coloro che desiderano migliorare la propria e altrui qualità della Vita; a coloro che desiderano conoscere una pratica manuale semplice ed efficace per donare BenEssere e Amore; per le coppie che desiderano armonizzare l’energia vitale e sensuale rinnovando freschezza ed intimità nella relazione; ai professionisti che lavorano già nel massaggio e/o nel sostegno del benessere olistico dell’uomo e a coloro che vogliono iniziare a costruire una nuova professione.\nCondotti da: Balak Sabina Chiarion e Isha O. Lavore\n\nLIVELLI SUCCESSIVI:\n2° livello: MASSAGGIO IGIENICO - sabato 9 gennaio e sabato 12 marzo 2016\n3° livello: MASSAGGIO OLISTICO - domenica 10 gennaio e domenica 13 marzo 2016\n\nClicca qui per SCARICARE IL PDF con i dettagli\nPer ISCRIVERTI clicca qui\, registrati in SOCIO 2015 2016 e cerca il corso tra CORSI SINGOLI\nPer ulteriori informazioni: CONTATTACI QUI o telefonaci al 334.9161.209
URL:https://centrolos.it/evento/massaggio-olistico-livello-base-a-brescia/
LOCATION:Brescia\, Italia
CATEGORIES:Corso
ATTACH;FMTTYPE=image/jpeg:https://centrolos.it/wp-content/uploads/2015/08/olistico-1920x1280.jpg
END:VEVENT
END:VCALENDAR