BEGIN:VCALENDAR
VERSION:2.0
PRODID:-//Centrolos.it - ECPv4.4.5//NONSGML v1.0//EN
CALSCALE:GREGORIAN
METHOD:PUBLISH
X-WR-CALNAME:Centrolos.it
X-ORIGINAL-URL:https://centrolos.it
X-WR-CALDESC:Events for Centrolos.it
BEGIN:VEVENT
DTSTART;TZID=Europe/Rome:20201221T173000
DTEND;TZID=Europe/Rome:20201221T203000
DTSTAMP:20260425T231954
CREATED:20201211T201251Z
LAST-MODIFIED:20201213T220618Z
UID:6457-1608571800-1608582600@centrolos.it
SUMMARY:IL GRANDE PASSAGGIO DEL 21 DICEMBRE 2020
DESCRIPTION:21 DICEMBRE 2020:\nLA TERRA E' PRONTA.\nE NOI CON LEI...\n \nInsieme per celebrare\nil grande cambiamento…\n \n\n \nCosa accadrà tra il 18 e il 26 dicembre 2020?\nQuesto Mondo si sta riprogrammando su Frequenze Superiori.\nUn’”Onda Solare” avverrà a breve e porterà a sviluppare il “Sentire dell’Anima”: un vero e proprio salto di Coscienza planetario che coinvolge tutta l’Umanità…\n\n \nCosa significa?\n\n \tAggiornamento del DNA umano;\n \tricalibrazione istantanea di tutti i chakra;\n \tattivazioni di vario tipo\, a più livelli\, nelle memorie animiche di ciascuno;\n \tsintonizzazione fisica con frequenze diverse da quelle presenti attualmente sulla terra;\n \trisveglio di talenti e capacità personali che potranno finalmente manifestarsi\, diventando strumenti concreti con cui\n \tinteragire e attraverso i quali assolvere alla missione individuale di ciascuno;\n \tun passaggio fondamentale per creare le basi della Terra nuova\, nutrita attraverso sentimenti di unione e di collaborazione;\n \tnuove frequenze e che ci consentono un'Accelerazione Evolutiva: stabile\, effettiva\, aperta e attiva anche in seguito...\n \tmolto altro che scopriremo insieme...\n\n \nD'ora in poi soltanto il Meglio !\nA partire da ora\, nei prossimi anni e più in là\, questo "nutrimento" aiuterà gradualmente al miglioramento della vita di questo pianeta.\n\n \n\nQuesta è la Nuova Energia!\n\nQuesto passaggio dimensionale ha come obiettivo il benessere nostro e di questo mondo.\nE’ certo che le nuove frequenze ci aiuteranno realizzando noi stessi e le nostre vere capacità\, in modo da poter collaborare nel collettivo verso una crescita indirizzata all'armonia: scompariranno quei meccanismi generati da fini egoistici nella mancanza di rispetto della vita e della libertà individuale.\nIn parole povere: chi vorrà una vita migliore e si attiverà per realizzarla\, l'avrà.\nAl bando passività e vittimismo\, siamo spronati ad essere coerenti e concreti: piedi per terra\, mente lucida e cuore aperto con determinazione e leggerezza nel fluire armoniosamente con il Piano Evolutivo\, dal quale lasciarsi Guidare\, con assoluta fiducia e serenità.\n\n \n\nTutti beneficeranno\n\nE’ certo che tutti beneficeranno di questa Trasformazione collettiva vibrazionale.\nTutti siamo sostenuti in questo percorso.\nIl libero arbitrio rimane intoccabile\, è quindi la libera scelta di ognuno che fa la differenza: nemmeno la Luce può imporre un cambio di prospettiva a chi non è pronto ad effettuarlo.\nNulla viene imposto\, tutto semplicemente viene donato a chi lo desidera\, ma in modo molto più veloce\, diretto e semplice di prima.\n\n \nIl 21 dicembre celebriamo insieme il “grande passaggio”\nViste le attuali limitazioni Centro Olos ha deciso di celebrare offrendo gratuitamente un incontro a partecipazione mista:\n> in aula a Cordovado (su prenotazione a numero chiuso) e\n> on-line su piattaforma zoom.\n\nQuesta occasione ci consente di creare un magico spazio di comunione e condivisione utilizzando musiche\, momenti di espressività corporea\, tanto entusiasmo e gioia per celebrare il passaggio a un nuovo livello di coscienza\, che avverrà proprio il 21 dicembre 2020.\n\nCosa faremo il 21 dicembre?\nInizieremo alle 17\,30 con alcune riflessioni cui seguiranno momenti di danza\, mantra e varie pratiche\, per giungere alla speciale meditazione planetaria alle 19\,22 (ora italiana). L’incontro\, seppure a distanza\, saprà creare risonanze coscienziali ed energetiche di armonizzazione\, benevolenza e pacificazione\, non solo per i partecipanti\, ma anche per l’intero pianeta.\n\n \n\nCONTRIBUTO DI PARTECIPAZIONE\nIn concomitanza dell’emergenza covid19 Centro Olos ha  deciso di offrire GRATUITAMENTE questo evento.\nE’  gradita una libera offerta che puoi versare con:\n> Bollettino postale o postagiro su CC postale n. 92002609\noppure\n> bonifico BANCOPOSTA codice IBAN BANCO POSTA: IT10 E076 0112 5000 0009 2002 609\nintestati a CENTRO OLOS – Via Oberdan\, 3 - 33170 PORDENONE\n\n \n\nCOME ISCRIVERSI\nPer partecipare all’evento on-line\, iscriviti in anticipo da questo link:\n>>>> https://us02web.zoom.us/meeting/register/tZEkdu6hpz8uH9FSHKmFK_vr2MyYFqHwWVQB\nDopo l’iscrizione\, riceverai un’email di conferma con le informazioni necessarie per entrare nella riunione.\n\nPer partecipare all’evento in aula a Cordovado\, contatta Silvia al 320.0433.818 per verificare la disponibilità e fare l’eventuale iscrizione diretta.\n\n \nSCARICA QUI IL PDF DELL'EVENTO 21 DICEMBRE 2020\n \nVideo e suggerimenti\nPer approfondire ulteriormente e consentirti di vivere al meglio questo passaggio\, qui a seguire trovi i link per accedere a due video molto interessanti.\n\nQui la spiegazione tecnica del fenomeno in atto e la meditazione guidata:\nhttps://youtu.be/VAR_BSJgptM\n\nSuggeriamo di eseguire meditazioni o altre pratiche consapevoli in natura\, possibilmente riunendo almeno 7 persone\, come spiegato nel video di seguito\, inviato da Cathy a Anne Givaudan “Nessuno può fermare le Energie del Cosmo”:\nhttps://youtu.be/BreMjJEcEj8\n\nNaturalmente pratica con la modalità che senti più adatta a te e che ti fa star bene. Consapevolmente si può anche solo camminare\, giocare coi bambini o raccontare barzellette.\nOgnuno dove si trova\, anche se da solo\, può collegarsi con l'intenzione agli altri e... amare! 💗\n\n \n\n 
URL:https://centrolos.it/evento/grande-passaggio-del-21-dicembre-2020/
LOCATION:pianeta terra
CATEGORIES:Serata
ATTACH;FMTTYPE=image/jpeg:https://centrolos.it/wp-content/uploads/2020/12/Mother-earth-Light.jpg
END:VEVENT
END:VCALENDAR